BEGIN:VCALENDAR
VERSION:2.0
PRODID:-//Club Re:Birth - ECPv6.0.6.2//NONSGML v1.0//EN
CALSCALE:GREGORIAN
METHOD:PUBLISH
X-WR-CALNAME:Club Re:Birth
X-ORIGINAL-URL:https://rebirth.run
X-WR-CALDESC:Club Re:Birth のイベント
REFRESH-INTERVAL;VALUE=DURATION:PT1H
X-Robots-Tag:noindex
X-PUBLISHED-TTL:PT1H
BEGIN:VTIMEZONE
TZID:Asia/Tokyo
BEGIN:STANDARD
TZOFFSETFROM:+0900
TZOFFSETTO:+0900
TZNAME:JST
DTSTART:20230101T000000
END:STANDARD
END:VTIMEZONE
BEGIN:VEVENT
DTSTART;VALUE=DATE:20230125
DTEND;VALUE=DATE:20230126
DTSTAMP:20260423T074056
CREATED:20230107T160616Z
LAST-MODIFIED:20230107T160616Z
UID:2546-1674604800-1674691199@rebirth.run
SUMMARY:経営者セミナー④
DESCRIPTION:経営者としての基本を学ぶセミナーです \n▼セミナーの内容はこちら\nhttps://rebirth.run/#service \n▼申し込みは公式ラインから\nhttps://page.line.me/?accountId=491odxeg
URL:https://rebirth.run/event/%e7%b5%8c%e5%96%b6%e8%80%85%e3%82%bb%e3%83%9f%e3%83%8a%e3%83%bc%e2%91%a3/
CATEGORIES:経営者向け
ATTACH;FMTTYPE=image/png:https://rebirth.run/wp-content/uploads/2023/01/2.png
END:VEVENT
BEGIN:VEVENT
DTSTART;VALUE=DATE:20230116
DTEND;VALUE=DATE:20230117
DTSTAMP:20260423T074056
CREATED:20230107T160201Z
LAST-MODIFIED:20230107T160201Z
UID:2543-1673827200-1673913599@rebirth.run
SUMMARY:お金のセミナー④
DESCRIPTION:経営者が知っておきたいお金の基本を学びます \n▼セミナーの内容はこちら\nhttps://rebirth.run/#service \n▼申し込みは公式ラインから\nhttps://page.line.me/?accountId=491odxeg
URL:https://rebirth.run/event/%e3%81%8a%e9%87%91%e3%81%ae%e3%82%bb%e3%83%9f%e3%83%8a%e3%83%bc%e2%91%a3/
CATEGORIES:お金のセミナー
ATTACH;FMTTYPE=image/png:https://rebirth.run/wp-content/uploads/2023/01/3.png
END:VEVENT
BEGIN:VEVENT
DTSTART;VALUE=DATE:20230114
DTEND;VALUE=DATE:20230115
DTSTAMP:20260423T074056
CREATED:20230107T154128Z
LAST-MODIFIED:20230107T155607Z
UID:2521-1673654400-1673740799@rebirth.run
SUMMARY:個人事業主セミナー④
DESCRIPTION:個人事業主としての基本を学ぶセミナーです \n▼セミナーの内容はこちら\nhttps://rebirth.run/#service \n▼申し込みは公式ラインから\nhttps://page.line.me/?accountId=491odxeg
URL:https://rebirth.run/event/%e5%80%8b%e4%ba%ba%e4%ba%8b%e6%a5%ad%e4%b8%bb%e3%82%bb%e3%83%9f%e3%83%8a%e3%83%bc4/
CATEGORIES:個人事業主向け
ATTACH;FMTTYPE=image/png:https://rebirth.run/wp-content/uploads/2023/01/1-2.png
END:VEVENT
END:VCALENDAR